BEGIN:VCALENDAR
VERSION:2.0
PRODID:-//Wyandanch Public Library - ECPv6.15.20//NONSGML v1.0//EN
CALSCALE:GREGORIAN
METHOD:PUBLISH
X-WR-CALNAME:Wyandanch Public Library
X-ORIGINAL-URL:https://wyan.suffolk.lib.ny.us
X-WR-CALDESC:Events for Wyandanch Public Library
REFRESH-INTERVAL;VALUE=DURATION:PT1H
X-Robots-Tag:noindex
X-PUBLISHED-TTL:PT1H
BEGIN:VTIMEZONE
TZID:America/New_York
BEGIN:DAYLIGHT
TZOFFSETFROM:-0500
TZOFFSETTO:-0400
TZNAME:EDT
DTSTART:20220313T070000
END:DAYLIGHT
BEGIN:STANDARD
TZOFFSETFROM:-0400
TZOFFSETTO:-0500
TZNAME:EST
DTSTART:20221106T060000
END:STANDARD
BEGIN:DAYLIGHT
TZOFFSETFROM:-0500
TZOFFSETTO:-0400
TZNAME:EDT
DTSTART:20230312T070000
END:DAYLIGHT
BEGIN:STANDARD
TZOFFSETFROM:-0400
TZOFFSETTO:-0500
TZNAME:EST
DTSTART:20231105T060000
END:STANDARD
BEGIN:DAYLIGHT
TZOFFSETFROM:-0500
TZOFFSETTO:-0400
TZNAME:EDT
DTSTART:20240310T070000
END:DAYLIGHT
BEGIN:STANDARD
TZOFFSETFROM:-0400
TZOFFSETTO:-0500
TZNAME:EST
DTSTART:20241103T060000
END:STANDARD
END:VTIMEZONE
BEGIN:VEVENT
DTSTART;TZID=America/New_York:20230426T080000
DTEND;TZID=America/New_York:20231031T170000
DTSTAMP:20260420T043227
CREATED:20230426T073643Z
LAST-MODIFIED:20230427T060815Z
UID:12116-1682496000-1698771600@wyan.suffolk.lib.ny.us
SUMMARY:An Evening with the Artists in Residence 1
DESCRIPTION:Nowadays most people do not have time to even think about what they want to eat for dinner\, let alone what they want to cook for dinner. In this class
URL:https://wyan.suffolk.lib.ny.us/event/an-evening-with-the-artists-in-residence-1/
CATEGORIES:Adult,Black Heritage,Children,Young Adult
ATTACH;FMTTYPE=image/jpeg:https://wyan.suffolk.lib.ny.us/wp-content/uploads/2023/04/NY2.jpg
END:VEVENT
END:VCALENDAR